BEGIN:VCALENDAR
VERSION:2.0
PRODID:-//Flama Pizza Co. - ECPv6.15.1.1//NONSGML v1.0//EN
CALSCALE:GREGORIAN
METHOD:PUBLISH
X-ORIGINAL-URL:https://flamapizzaco.com
X-WR-CALDESC:Events for Flama Pizza Co.
REFRESH-INTERVAL;VALUE=DURATION:PT1H
X-Robots-Tag:noindex
X-PUBLISHED-TTL:PT1H
BEGIN:VTIMEZONE
TZID:UTC
BEGIN:STANDARD
TZOFFSETFROM:+0000
TZOFFSETTO:+0000
TZNAME:UTC
DTSTART:20180101T000000
END:STANDARD
END:VTIMEZONE
BEGIN:VEVENT
DTSTART;TZID=UTC:20190117T123000
DTEND;TZID=UTC:20190117T133000
DTSTAMP:20260423T124519
CREATED:20181206T221226Z
LAST-MODIFIED:20181214T213156Z
UID:12247-1547728200-1547731800@flamapizzaco.com
SUMMARY:Ribbon Cutting Ceremony
DESCRIPTION:Join us on January 16th for our ribbon cutting ceremony with the mayor of Roswell.
URL:https://flamapizzaco.com/event/ribbon-cutting-ceremony/
ATTACH;FMTTYPE=image/jpeg:https://flamapizzaco.com/wp-content/uploads/2018/12/A-7.jpg
END:VEVENT
BEGIN:VEVENT
DTSTART;VALUE=DATE:20190101
DTEND;VALUE=DATE:20190102
DTSTAMP:20260423T124519
CREATED:20181207T163531Z
LAST-MODIFIED:20181207T163531Z
UID:12260-1546300800-1546387199@flamapizzaco.com
SUMMARY:Closed For New Years Day
DESCRIPTION:We’ll be closed on 1/1/2019.
URL:https://flamapizzaco.com/event/closed-for-new-years-day/
ATTACH;FMTTYPE=image/jpeg:https://flamapizzaco.com/wp-content/uploads/2018/12/9226.jpg
END:VEVENT
BEGIN:VEVENT
DTSTART;VALUE=DATE:20181225
DTEND;VALUE=DATE:20181226
DTSTAMP:20260423T124519
CREATED:20181207T160851Z
LAST-MODIFIED:20181207T163317Z
UID:12255-1545696000-1545782399@flamapizzaco.com
SUMMARY:Closed for Christmas Day
DESCRIPTION:We’ll be closed on Christmas Day\, 12/25.
URL:https://flamapizzaco.com/event/closed-for-christmas-day/
ATTACH;FMTTYPE=image/jpeg:https://flamapizzaco.com/wp-content/uploads/2018/12/christmas.jpg
END:VEVENT
END:VCALENDAR